BEGIN:VCALENDAR
VERSION:2.0
PRODID:-//Hope Valley Riding Club - ECPv6.15.15//NONSGML v1.0//EN
CALSCALE:GREGORIAN
METHOD:PUBLISH
X-WR-CALNAME:Hope Valley Riding Club
X-ORIGINAL-URL:https://hopevalleyridingclub.co.uk
X-WR-CALDESC:Events for Hope Valley Riding Club
REFRESH-INTERVAL;VALUE=DURATION:PT1H
X-Robots-Tag:noindex
X-PUBLISHED-TTL:PT1H
BEGIN:VTIMEZONE
TZID:UTC
BEGIN:STANDARD
TZOFFSETFROM:+0000
TZOFFSETTO:+0000
TZNAME:UTC
DTSTART:20250101T000000
END:STANDARD
END:VTIMEZONE
BEGIN:VEVENT
DTSTART;TZID=UTC:20260214T100000
DTEND;TZID=UTC:20260214T170000
DTSTAMP:20260420T101419
CREATED:20260130T142459Z
LAST-MODIFIED:20260130T142459Z
UID:2317-1771063200-1771088400@hopevalleyridingclub.co.uk
SUMMARY:14th February Claire Bennett Dressage Clinic
DESCRIPTION:
URL:https://hopevalleyridingclub.co.uk/event/14th-february-claire-bennett-dressage-clinic/
END:VEVENT
END:VCALENDAR